BEGIN:VCALENDAR
VERSION:2.0
PRODID:-//myjoyfulheart.org//NONSGML kigkonsult.se iCalcreator 2.30.10//
CALSCALE:GREGORIAN
METHOD:PUBLISH
UID:ba102e1f-a015-4c31-8d34-21ff679a4bca
X-WR-CALDESC:
X-WR-RELCALID:fb71a6c533acfffcfb40b3a1a3515b59
X-WR-TIMEZONE:America/Chicago
BEGIN:VTIMEZONE
TZID:America/Chicago
BEGIN:STANDARD
TZNAME:CST
DTSTART:20221106T020000
TZOFFSETFROM:-0500
TZOFFSETTO:-0600
RDATE:20231105T020000
END:STANDARD
BEGIN:DAYLIGHT
TZNAME:CDT
DTSTART:20230312T020000
TZOFFSETFROM:-0600
TZOFFSETTO:-0500
RDATE:20240310T020000
END:DAYLIGHT
END:VTIMEZONE
BEGIN:VEVENT
UID:6e1fd133-a6f7-45dc-afbd-33bd4bfda2b5
DTSTAMP:20260425T130539Z
DESCRIPTION:
DTSTART;TZID=America/Chicago:20230417T000000
DTEND;TZID=America/Chicago:20230417T235900
LOCATION:
SUMMARY:Closed
END:VEVENT
END:VCALENDAR
