BEGIN:VCALENDAR
VERSION:2.0
PRODID:-//myjoyfulheart.org//NONSGML kigkonsult.se iCalcreator 2.30.10//
CALSCALE:GREGORIAN
METHOD:PUBLISH
UID:8012c16a-497f-4527-acf8-4f74cc8ffa23
X-WR-CALDESC:See here for details and information on where to join\nhttps:/
 /myjoyfulheart.org/news-events/crazy-faith.html
X-WR-RELCALID:5e4dbeae948d4e1ca83e654a468ccbeb
X-WR-TIMEZONE:America/Chicago
BEGIN:VTIMEZONE
TZID:America/Chicago
BEGIN:STANDARD
TZNAME:CST
DTSTART:20221106T020000
TZOFFSETFROM:-0500
TZOFFSETTO:-0600
RDATE:20231105T020000
END:STANDARD
BEGIN:DAYLIGHT
TZNAME:CDT
DTSTART:20230312T020000
TZOFFSETFROM:-0600
TZOFFSETTO:-0500
RDATE:20240310T020000
END:DAYLIGHT
END:VTIMEZONE
BEGIN:VEVENT
UID:6f55da77-de90-4771-b9ea-ca42c4edd5ae
DTSTAMP:20260425T145519Z
DESCRIPTION:See here for details and information on where to join\nhttps://
 myjoyfulheart.org/news-events/crazy-faith.html
DTSTART;TZID=America/Chicago:20230314T081500
DTEND;TZID=America/Chicago:20230314T094500
LOCATION:
SUMMARY:Crazy Faith Small Group
END:VEVENT
END:VCALENDAR
