BEGIN:VCALENDAR
VERSION:2.0
PRODID:-//myjoyfulheart.org//NONSGML kigkonsult.se iCalcreator 2.30.10//
CALSCALE:GREGORIAN
METHOD:PUBLISH
UID:78fdb694-7a31-4d1f-9ea2-fddcc73623b9
X-WR-CALDESC:
X-WR-RELCALID:59974a964e09a7d558c97d8de19a4992
X-WR-TIMEZONE:America/Chicago
BEGIN:VTIMEZONE
TZID:America/Chicago
BEGIN:STANDARD
TZNAME:CST
DTSTART:20221106T020000
TZOFFSETFROM:-0500
TZOFFSETTO:-0600
RDATE:20231105T020000
END:STANDARD
BEGIN:DAYLIGHT
TZNAME:CDT
DTSTART:20220313T020000
TZOFFSETFROM:-0600
TZOFFSETTO:-0500
RDATE:20230312T020000
RDATE:20240310T020000
END:DAYLIGHT
END:VTIMEZONE
BEGIN:VEVENT
UID:d5726f7e-66d7-412a-97b8-ee5ac4c61683
DTSTAMP:20260425T145341Z
DESCRIPTION:
DTSTART;TZID=America/Chicago:20230309T000000
DTEND;TZID=America/Chicago:20230309T235900
LOCATION:
SUMMARY:MJH CLOSED
END:VEVENT
END:VCALENDAR
