BEGIN:VCALENDAR
VERSION:2.0
PRODID:-//myjoyfulheart.org//NONSGML kigkonsult.se iCalcreator 2.30.10//
CALSCALE:GREGORIAN
METHOD:PUBLISH
UID:e7b4ce42-a8ed-47a6-9d03-9d48d1bcc912
X-WR-CALDESC:
X-WR-RELCALID:e915ab20098097ff2a35d93b78b71861
X-WR-TIMEZONE:America/Chicago
BEGIN:VTIMEZONE
TZID:America/Chicago
BEGIN:STANDARD
TZNAME:CST
DTSTART:20221106T020000
TZOFFSETFROM:-0500
TZOFFSETTO:-0600
RDATE:20231105T020000
END:STANDARD
BEGIN:DAYLIGHT
TZNAME:CDT
DTSTART:20220313T020000
TZOFFSETFROM:-0600
TZOFFSETTO:-0500
RDATE:20230312T020000
RDATE:20240310T020000
END:DAYLIGHT
END:VTIMEZONE
BEGIN:VEVENT
UID:43a41d0a-bad7-43bc-b376-3af9d22a7e03
DTSTAMP:20260425T145325Z
DESCRIPTION:
DTSTART;TZID=America/Chicago:20230307T103000
DTEND;TZID=America/Chicago:20230307T133000
LOCATION:
SUMMARY:Hygiene Packing
END:VEVENT
END:VCALENDAR
