BEGIN:VCALENDAR
VERSION:2.0
PRODID:-//myjoyfulheart.org//NONSGML kigkonsult.se iCalcreator 2.30.10//
CALSCALE:GREGORIAN
METHOD:PUBLISH
UID:da12303b-bab3-477c-9a88-2b442d7b590c
X-WR-CALDESC:See here for details and information on where to join\nhttps:/
 /myjoyfulheart.org/news-events/crazy-faith.html
X-WR-RELCALID:0f1e5aab304f949427ccfe8352bc8606
X-WR-TIMEZONE:America/Chicago
BEGIN:VTIMEZONE
TZID:America/Chicago
BEGIN:STANDARD
TZNAME:CST
DTSTART:20221106T020000
TZOFFSETFROM:-0500
TZOFFSETTO:-0600
RDATE:20231105T020000
END:STANDARD
BEGIN:DAYLIGHT
TZNAME:CDT
DTSTART:20220313T020000
TZOFFSETFROM:-0600
TZOFFSETTO:-0500
RDATE:20230312T020000
RDATE:20240310T020000
END:DAYLIGHT
END:VTIMEZONE
BEGIN:VEVENT
UID:cb96759d-f6f6-42a0-9318-babadb07a3eb
DTSTAMP:20260425T145646Z
DESCRIPTION:See here for details and information on where to join\nhttps://
 myjoyfulheart.org/news-events/crazy-faith.html
DTSTART;TZID=America/Chicago:20230307T081500
DTEND;TZID=America/Chicago:20230307T094500
LOCATION:
SUMMARY:Crazy Faith Small Group
END:VEVENT
END:VCALENDAR
