BEGIN:VCALENDAR
VERSION:2.0
PRODID:-//myjoyfulheart.org//NONSGML kigkonsult.se iCalcreator 2.30.10//
CALSCALE:GREGORIAN
METHOD:PUBLISH
UID:bfa7f4e1-40dd-4575-8919-b5736d5779f0
X-WR-CALDESC:See here for details and information on where to join\nhttps:/
 /myjoyfulheart.org/news-events/crazy-faith.html
X-WR-RELCALID:794c224d890466c510036ec83a858d91
X-WR-TIMEZONE:America/Chicago
BEGIN:VTIMEZONE
TZID:America/Chicago
BEGIN:STANDARD
TZNAME:CST
DTSTART:20221106T020000
TZOFFSETFROM:-0500
TZOFFSETTO:-0600
RDATE:20231105T020000
END:STANDARD
BEGIN:DAYLIGHT
TZNAME:CDT
DTSTART:20220313T020000
TZOFFSETFROM:-0600
TZOFFSETTO:-0500
RDATE:20230312T020000
RDATE:20240310T020000
END:DAYLIGHT
END:VTIMEZONE
BEGIN:VEVENT
UID:4cd5b02a-f1ec-462d-abec-77010e8f7069
DTSTAMP:20260425T164228Z
DESCRIPTION:See here for details and information on where to join\nhttps://
 myjoyfulheart.org/news-events/crazy-faith.html
DTSTART;TZID=America/Chicago:20230214T081500
DTEND;TZID=America/Chicago:20230214T094500
LOCATION:
SUMMARY:Crazy Faith Small Group
END:VEVENT
END:VCALENDAR
