BEGIN:VCALENDAR
VERSION:2.0
PRODID:-//myjoyfulheart.org//NONSGML kigkonsult.se iCalcreator 2.30.10//
CALSCALE:GREGORIAN
METHOD:PUBLISH
UID:046316fe-805c-4129-b915-9ebe18964467
X-WR-CALDESC:See here for details and information on where to join\nhttps:/
 /myjoyfulheart.org/news-events/crazy-faith.html
X-WR-RELCALID:3936d8504724572da66770dcda06e1eb
X-WR-TIMEZONE:America/Chicago
BEGIN:VTIMEZONE
TZID:America/Chicago
BEGIN:STANDARD
TZNAME:CST
DTSTART:20221106T020000
TZOFFSETFROM:-0500
TZOFFSETTO:-0600
RDATE:20231105T020000
END:STANDARD
BEGIN:DAYLIGHT
TZNAME:CDT
DTSTART:20220313T020000
TZOFFSETFROM:-0600
TZOFFSETTO:-0500
RDATE:20230312T020000
RDATE:20240310T020000
END:DAYLIGHT
END:VTIMEZONE
BEGIN:VEVENT
UID:dd65b994-e3ea-4eac-8087-5078c9a3ecaa
DTSTAMP:20260425T163604Z
DESCRIPTION:See here for details and information on where to join\nhttps://
 myjoyfulheart.org/news-events/crazy-faith.html
DTSTART;TZID=America/Chicago:20230207T081500
DTEND;TZID=America/Chicago:20230207T094500
LOCATION:
SUMMARY:Crazy Faith Small Group
END:VEVENT
END:VCALENDAR
