BEGIN:VCALENDAR
VERSION:2.0
PRODID:-//myjoyfulheart.org//NONSGML kigkonsult.se iCalcreator 2.30.10//
CALSCALE:GREGORIAN
METHOD:PUBLISH
UID:ec5593a5-f4cb-4f79-884d-ff5776626b5b
X-WR-CALDESC:
X-WR-RELCALID:e8097c80b07fd10ea1e3225a7b8071eb
X-WR-TIMEZONE:America/Chicago
BEGIN:VTIMEZONE
TZID:America/Chicago
BEGIN:STANDARD
TZNAME:CST
DTSTART:20221106T020000
TZOFFSETFROM:-0500
TZOFFSETTO:-0600
RDATE:20231105T020000
END:STANDARD
BEGIN:DAYLIGHT
TZNAME:CDT
DTSTART:20220313T020000
TZOFFSETFROM:-0600
TZOFFSETTO:-0500
RDATE:20230312T020000
RDATE:20240310T020000
END:DAYLIGHT
END:VTIMEZONE
BEGIN:VEVENT
UID:b8450587-9eae-4f00-bf84-6ef32722f773
DTSTAMP:20260425T164401Z
DESCRIPTION:
DTSTART;TZID=America/Chicago:20230203T093000
DTEND;TZID=America/Chicago:20230203T133000
LOCATION:
SUMMARY:Volunteer Day
END:VEVENT
END:VCALENDAR
