BEGIN:VCALENDAR
VERSION:2.0
PRODID:-//myjoyfulheart.org//NONSGML kigkonsult.se iCalcreator 2.30.10//
CALSCALE:GREGORIAN
METHOD:PUBLISH
UID:06398c52-616d-45f8-911a-35fcd18b9fee
X-WR-CALDESC:See here for details and information on where to join\nhttps:/
 /myjoyfulheart.org/news-events/crazy-faith.html
X-WR-RELCALID:3a3660a8364a1d89170b406f1ff19674
X-WR-TIMEZONE:America/Chicago
BEGIN:VTIMEZONE
TZID:America/Chicago
BEGIN:STANDARD
TZNAME:CST
DTSTART:20221106T020000
TZOFFSETFROM:-0500
TZOFFSETTO:-0600
RDATE:20231105T020000
END:STANDARD
BEGIN:DAYLIGHT
TZNAME:CDT
DTSTART:20220313T020000
TZOFFSETFROM:-0600
TZOFFSETTO:-0500
RDATE:20230312T020000
RDATE:20240310T020000
END:DAYLIGHT
END:VTIMEZONE
BEGIN:VEVENT
UID:a2840a8b-094a-4478-82a3-2b9cbdb0dd62
DTSTAMP:20260425T182420Z
DESCRIPTION:See here for details and information on where to join\nhttps://
 myjoyfulheart.org/news-events/crazy-faith.html
DTSTART;TZID=America/Chicago:20230131T081500
DTEND;TZID=America/Chicago:20230131T094500
LOCATION:
SUMMARY:Crazy Faith Small Group
END:VEVENT
END:VCALENDAR
