BEGIN:VCALENDAR
VERSION:2.0
PRODID:-//myjoyfulheart.org//NONSGML kigkonsult.se iCalcreator 2.30.10//
CALSCALE:GREGORIAN
METHOD:PUBLISH
UID:af744b91-1536-451e-bd2a-e593f51976ef
X-WR-CALDESC:
X-WR-RELCALID:d83e4e2bfecaaf480f652c285fe8f835
X-WR-TIMEZONE:America/Chicago
BEGIN:VTIMEZONE
TZID:America/Chicago
BEGIN:STANDARD
TZNAME:CST
DTSTART:20221106T020000
TZOFFSETFROM:-0500
TZOFFSETTO:-0600
RDATE:20231105T020000
END:STANDARD
BEGIN:DAYLIGHT
TZNAME:CDT
DTSTART:20220313T020000
TZOFFSETFROM:-0600
TZOFFSETTO:-0500
RDATE:20230312T020000
RDATE:20240310T020000
END:DAYLIGHT
END:VTIMEZONE
BEGIN:VEVENT
UID:8f5bdd79-db3d-4329-9e7b-3ae29ae6e1a3
DTSTAMP:20260425T183514Z
DESCRIPTION:
DTSTART;TZID=America/Chicago:20230120T093000
DTEND;TZID=America/Chicago:20230120T133000
LOCATION:
SUMMARY:Volunteer Day
END:VEVENT
END:VCALENDAR
