BEGIN:VCALENDAR
VERSION:2.0
PRODID:-//myjoyfulheart.org//NONSGML kigkonsult.se iCalcreator 2.30.10//
CALSCALE:GREGORIAN
METHOD:PUBLISH
UID:ce0c06e8-40a4-4578-93b2-e602a05f7664
X-WR-CALDESC:Families are invited to attend 90 minutes of a simple sorting 
 activity. We welcome younger children who can stay on task and help with s
 orting.  A parent/guardian adult must stay with the child during the servi
 ng event.
X-WR-RELCALID:2b453b02e2603759f79c2d838d750f93
X-WR-TIMEZONE:America/Chicago
BEGIN:VTIMEZONE
TZID:America/Chicago
BEGIN:STANDARD
TZNAME:CST
DTSTART:20221106T020000
TZOFFSETFROM:-0500
TZOFFSETTO:-0600
RDATE:20231105T020000
END:STANDARD
BEGIN:DAYLIGHT
TZNAME:CDT
DTSTART:20220313T020000
TZOFFSETFROM:-0600
TZOFFSETTO:-0500
RDATE:20230312T020000
RDATE:20240310T020000
END:DAYLIGHT
END:VTIMEZONE
BEGIN:VEVENT
UID:ab529426-b702-4cc3-8245-e1a79d61bfe8
DTSTAMP:20260425T182323Z
DESCRIPTION:Families are invited to attend 90 minutes of a simple sorting a
 ctivity. We welcome younger children who can stay on task and help with so
 rting.  A parent/guardian adult must stay with the child during the servin
 g event.
DTSTART;TZID=America/Chicago:20230116T103000
DTEND;TZID=America/Chicago:20230116T120000
LOCATION:
SUMMARY:Family Serve Date
END:VEVENT
END:VCALENDAR
