BEGIN:VCALENDAR
VERSION:2.0
PRODID:-//myjoyfulheart.org//NONSGML kigkonsult.se iCalcreator 2.30.10//
CALSCALE:GREGORIAN
METHOD:PUBLISH
UID:36e151de-355f-40e8-b1f2-2f8c4fb0964b
X-WR-CALDESC:
X-WR-RELCALID:bcbd26e0bff1aad1da48679b2209ca57
X-WR-TIMEZONE:America/Chicago
BEGIN:VTIMEZONE
TZID:America/Chicago
BEGIN:STANDARD
TZNAME:CST
DTSTART:20221106T020000
TZOFFSETFROM:-0500
TZOFFSETTO:-0600
RDATE:20231105T020000
END:STANDARD
BEGIN:DAYLIGHT
TZNAME:CDT
DTSTART:20220313T020000
TZOFFSETFROM:-0600
TZOFFSETTO:-0500
RDATE:20230312T020000
RDATE:20240310T020000
END:DAYLIGHT
END:VTIMEZONE
BEGIN:VEVENT
UID:1f7da16b-15b8-4c3c-862a-790a817967bb
DTSTAMP:20260425T183326Z
DESCRIPTION:
DTSTART;TZID=America/Chicago:20230113T093000
DTEND;TZID=America/Chicago:20230113T133000
LOCATION:
SUMMARY:Volunteer Day
END:VEVENT
END:VCALENDAR
