BEGIN:VCALENDAR
VERSION:2.0
PRODID:-//myjoyfulheart.org//NONSGML kigkonsult.se iCalcreator 2.30.10//
CALSCALE:GREGORIAN
METHOD:PUBLISH
UID:faa9e033-13fb-488a-b6b7-21a7af026fd2
X-WR-CALDESC:
X-WR-RELCALID:b77c85ac73d5d86281490dccf4d51435
X-WR-TIMEZONE:America/Chicago
BEGIN:VTIMEZONE
TZID:America/Chicago
BEGIN:STANDARD
TZNAME:CST
DTSTART:20221106T020000
TZOFFSETFROM:-0500
TZOFFSETTO:-0600
RDATE:20231105T020000
END:STANDARD
BEGIN:DAYLIGHT
TZNAME:CDT
DTSTART:20220313T020000
TZOFFSETFROM:-0600
TZOFFSETTO:-0500
RDATE:20230312T020000
RDATE:20240310T020000
END:DAYLIGHT
END:VTIMEZONE
BEGIN:VEVENT
UID:7d45a9bc-a7ca-464f-b9d7-3d56edb5b321
DTSTAMP:20260425T182827Z
DESCRIPTION:
DTSTART;TZID=America/Chicago:20230112T093000
DTEND;TZID=America/Chicago:20230112T133000
LOCATION:9981 W. 190th St.\, Suite i\, Mokena\, IL 60448 US
SUMMARY:Volunteer Day
END:VEVENT
END:VCALENDAR
