BEGIN:VCALENDAR
VERSION:2.0
PRODID:-//myjoyfulheart.org//NONSGML kigkonsult.se iCalcreator 2.30.10//
CALSCALE:GREGORIAN
METHOD:PUBLISH
UID:7e24b269-18e9-49dd-ad68-cb41930522f4
X-WR-CALDESC:
X-WR-RELCALID:ea856a71ea22c5144e4f9b979dcaa094
X-WR-TIMEZONE:America/Chicago
BEGIN:VTIMEZONE
TZID:America/Chicago
BEGIN:STANDARD
TZNAME:CST
DTSTART:20221106T020000
TZOFFSETFROM:-0500
TZOFFSETTO:-0600
RDATE:20231105T020000
END:STANDARD
BEGIN:DAYLIGHT
TZNAME:CDT
DTSTART:20220313T020000
TZOFFSETFROM:-0600
TZOFFSETTO:-0500
RDATE:20230312T020000
RDATE:20240310T020000
END:DAYLIGHT
END:VTIMEZONE
BEGIN:VEVENT
UID:9dbaa2d4-f9bc-40d9-9108-ffaef15420f4
DTSTAMP:20260425T182246Z
DESCRIPTION:
DTSTART;TZID=America/Chicago:20230111T120000
DTEND;TZID=America/Chicago:20230111T140000
LOCATION:
SUMMARY:Volunteer Appreciation Luncheon
END:VEVENT
END:VCALENDAR
