BEGIN:VCALENDAR
VERSION:2.0
PRODID:-//myjoyfulheart.org//NONSGML kigkonsult.se iCalcreator 2.30.10//
CALSCALE:GREGORIAN
METHOD:PUBLISH
UID:1b52c626-0dff-45cc-871e-d43214aad5d0
X-WR-CALDESC:
X-WR-RELCALID:590b32ab5ca5d6a9941939456b79e2b4
X-WR-TIMEZONE:America/Chicago
BEGIN:VTIMEZONE
TZID:America/Chicago
BEGIN:STANDARD
TZNAME:CST
DTSTART:20221106T020000
TZOFFSETFROM:-0500
TZOFFSETTO:-0600
RDATE:20231105T020000
END:STANDARD
BEGIN:DAYLIGHT
TZNAME:CDT
DTSTART:20220313T020000
TZOFFSETFROM:-0600
TZOFFSETTO:-0500
RDATE:20230312T020000
RDATE:20240310T020000
END:DAYLIGHT
END:VTIMEZONE
BEGIN:VEVENT
UID:f9b65cd7-c553-4b1c-931b-e0fdb4c1c2d6
DTSTAMP:20260425T194237Z
DESCRIPTION:
DTSTART;TZID=America/Chicago:20221216T093000
DTEND;TZID=America/Chicago:20221216T133000
LOCATION:
SUMMARY:Volunteer Day
END:VEVENT
END:VCALENDAR
