BEGIN:VCALENDAR
VERSION:2.0
PRODID:-//myjoyfulheart.org//NONSGML kigkonsult.se iCalcreator 2.30.10//
CALSCALE:GREGORIAN
METHOD:PUBLISH
UID:94a780f2-b980-432c-aa36-c82bdf7a044b
X-WR-CALDESC:
X-WR-RELCALID:7a74a431dfc71f58ab5ce44c42f9aaf2
X-WR-TIMEZONE:America/Chicago
BEGIN:VTIMEZONE
TZID:America/Chicago
BEGIN:STANDARD
TZNAME:CST
DTSTART:20221106T020000
TZOFFSETFROM:-0500
TZOFFSETTO:-0600
RDATE:20231105T020000
END:STANDARD
BEGIN:DAYLIGHT
TZNAME:CDT
DTSTART:20220313T020000
TZOFFSETFROM:-0600
TZOFFSETTO:-0500
RDATE:20230312T020000
RDATE:20240310T020000
END:DAYLIGHT
END:VTIMEZONE
BEGIN:VEVENT
UID:1c6a8545-4fce-4a44-9d5b-7b16894fe5a3
DTSTAMP:20260425T212619Z
DESCRIPTION:
DTSTART;TZID=America/Chicago:20221130T173000
DTEND;TZID=America/Chicago:20221130T200000
LOCATION:
SUMMARY:Volunteer Opportunity
END:VEVENT
END:VCALENDAR
