BEGIN:VCALENDAR
VERSION:2.0
PRODID:-//myjoyfulheart.org//NONSGML kigkonsult.se iCalcreator 2.30.10//
CALSCALE:GREGORIAN
METHOD:PUBLISH
UID:4517aa11-bec2-468d-93f3-8fab5f8eef22
X-WR-CALDESC:
X-WR-RELCALID:fead8b367744e8faf827e60388e4ff89
X-WR-TIMEZONE:America/Chicago
BEGIN:VTIMEZONE
TZID:America/Chicago
BEGIN:STANDARD
TZNAME:CST
DTSTART:20221106T020000
TZOFFSETFROM:-0500
TZOFFSETTO:-0600
RDATE:20231105T020000
END:STANDARD
BEGIN:DAYLIGHT
TZNAME:CDT
DTSTART:20220313T020000
TZOFFSETFROM:-0600
TZOFFSETTO:-0500
RDATE:20230312T020000
RDATE:20240310T020000
END:DAYLIGHT
END:VTIMEZONE
BEGIN:VEVENT
UID:5ac0ccdb-0514-463e-be12-f01c399fdbef
DTSTAMP:20260425T213404Z
DESCRIPTION:
DTSTART;TZID=America/Chicago:20221110T093000
DTEND;TZID=America/Chicago:20221110T133000
LOCATION:Ministry Center
SUMMARY:Volunteer Day
END:VEVENT
END:VCALENDAR
