BEGIN:VCALENDAR
VERSION:2.0
PRODID:-//myjoyfulheart.org//NONSGML kigkonsult.se iCalcreator 2.30.10//
CALSCALE:GREGORIAN
METHOD:PUBLISH
UID:8ca17b95-a94c-4d5c-b1e5-57d70f8f8010
X-WR-CALDESC:
X-WR-RELCALID:9a9b1db37d9663da95c4587fe00bd412
X-WR-TIMEZONE:America/Chicago
BEGIN:VTIMEZONE
TZID:America/Chicago
BEGIN:STANDARD
TZNAME:CST
DTSTART:20221106T020000
TZOFFSETFROM:-0500
TZOFFSETTO:-0600
RDATE:20231105T020000
END:STANDARD
BEGIN:DAYLIGHT
TZNAME:CDT
DTSTART:20220313T020000
TZOFFSETFROM:-0600
TZOFFSETTO:-0500
RDATE:20230312T020000
RDATE:20240310T020000
END:DAYLIGHT
END:VTIMEZONE
BEGIN:VEVENT
UID:6672f2b2-2a2f-492c-ae26-74186f6d9aed
DTSTAMP:20260425T211937Z
DESCRIPTION:
DTSTART;TZID=America/Chicago:20221109T173000
DTEND;TZID=America/Chicago:20221109T200000
LOCATION:
SUMMARY:Volunteer Opportunity
END:VEVENT
END:VCALENDAR
