BEGIN:VCALENDAR
VERSION:2.0
PRODID:-//myjoyfulheart.org//NONSGML kigkonsult.se iCalcreator 2.30.10//
CALSCALE:GREGORIAN
METHOD:PUBLISH
UID:770a9cfd-f056-4cdd-bed2-9736aa5e8228
X-WR-CALDESC:Introduction and tour for those wanting to volunteer on a regu
 lar basis.
X-WR-RELCALID:b47e1ca12f6caa30349d2a727a18727b
X-WR-TIMEZONE:America/Chicago
BEGIN:VTIMEZONE
TZID:America/Chicago
BEGIN:STANDARD
TZNAME:CST
DTSTART:20221106T020000
TZOFFSETFROM:-0500
TZOFFSETTO:-0600
RDATE:20231105T020000
END:STANDARD
BEGIN:DAYLIGHT
TZNAME:CDT
DTSTART:20220313T020000
TZOFFSETFROM:-0600
TZOFFSETTO:-0500
RDATE:20230312T020000
RDATE:20240310T020000
END:DAYLIGHT
END:VTIMEZONE
BEGIN:VEVENT
UID:41ddf328-1de1-48af-950b-a3c6646c03a4
DTSTAMP:20260425T211650Z
DESCRIPTION:Introduction and tour for those wanting to volunteer on a regul
 ar basis.
DTSTART;TZID=America/Chicago:20221108T100000
DTEND;TZID=America/Chicago:20221108T103000
LOCATION:
SUMMARY:New Volunteer Tour
END:VEVENT
END:VCALENDAR
