BEGIN:VCALENDAR
VERSION:2.0
PRODID:-//myjoyfulheart.org//NONSGML kigkonsult.se iCalcreator 2.30.10//
CALSCALE:GREGORIAN
METHOD:PUBLISH
UID:2d9c80b2-6871-446f-b355-678dfee4c59d
X-WR-CALDESC:
X-WR-RELCALID:d6e8da15d3bbd60f490fe228c8eb6408
X-WR-TIMEZONE:America/Chicago
BEGIN:VTIMEZONE
TZID:America/Chicago
BEGIN:STANDARD
TZNAME:CST
DTSTART:20211107T020000
TZOFFSETFROM:-0500
TZOFFSETTO:-0600
RDATE:20221106T020000
RDATE:20231105T020000
END:STANDARD
BEGIN:DAYLIGHT
TZNAME:CDT
DTSTART:20220313T020000
TZOFFSETFROM:-0600
TZOFFSETTO:-0500
RDATE:20230312T020000
RDATE:20240310T020000
END:DAYLIGHT
END:VTIMEZONE
BEGIN:VEVENT
UID:6f98b6cd-4aba-4389-a9fa-4f76149fb356
DTSTAMP:20260425T212143Z
DESCRIPTION:
DTSTART;TZID=America/Chicago:20221102T173000
DTEND;TZID=America/Chicago:20221102T200000
LOCATION:
SUMMARY:Volunteer Opportunity
END:VEVENT
END:VCALENDAR
