BEGIN:VCALENDAR
VERSION:2.0
PRODID:-//myjoyfulheart.org//NONSGML kigkonsult.se iCalcreator 2.30.10//
CALSCALE:GREGORIAN
METHOD:PUBLISH
UID:3417bfa4-e48f-4f3f-9a47-cc00d1340b5c
X-WR-CALDESC:
X-WR-RELCALID:6ffec6ec33e72c6cfe20d0226d5420c5
X-WR-TIMEZONE:America/Chicago
BEGIN:VTIMEZONE
TZID:America/Chicago
BEGIN:STANDARD
TZNAME:CST
DTSTART:20211107T020000
TZOFFSETFROM:-0500
TZOFFSETTO:-0600
RDATE:20221106T020000
RDATE:20231105T020000
END:STANDARD
BEGIN:DAYLIGHT
TZNAME:CDT
DTSTART:20220313T020000
TZOFFSETFROM:-0600
TZOFFSETTO:-0500
RDATE:20230312T020000
RDATE:20240310T020000
END:DAYLIGHT
END:VTIMEZONE
BEGIN:VEVENT
UID:756eae8a-1713-4c68-87d4-007164adbd0b
DTSTAMP:20260425T225400Z
DESCRIPTION:
DTSTART;TZID=America/Chicago:20221020T093000
DTEND;TZID=America/Chicago:20221020T133000
LOCATION:Ministry Center
SUMMARY:Volunteer Day
END:VEVENT
END:VCALENDAR
