BEGIN:VCALENDAR
VERSION:2.0
PRODID:-//myjoyfulheart.org//NONSGML kigkonsult.se iCalcreator 2.30.10//
CALSCALE:GREGORIAN
METHOD:PUBLISH
UID:5b0f4c72-9e39-440a-9dff-ff5fbdcc0e31
X-WR-CALDESC:
X-WR-RELCALID:008eb7f36fd2905920fb4b49f858a6c1
X-WR-TIMEZONE:America/Chicago
BEGIN:VTIMEZONE
TZID:America/Chicago
BEGIN:STANDARD
TZNAME:CST
DTSTART:20211107T020000
TZOFFSETFROM:-0500
TZOFFSETTO:-0600
RDATE:20221106T020000
RDATE:20231105T020000
END:STANDARD
BEGIN:DAYLIGHT
TZNAME:CDT
DTSTART:20220313T020000
TZOFFSETFROM:-0600
TZOFFSETTO:-0500
RDATE:20230312T020000
RDATE:20240310T020000
END:DAYLIGHT
END:VTIMEZONE
BEGIN:VEVENT
UID:bcea5dc9-89ab-4f48-9a90-ad8e32550f4e
DTSTAMP:20260425T224845Z
DESCRIPTION:
DTSTART;TZID=America/Chicago:20221018T093000
DTEND;TZID=America/Chicago:20221018T133000
LOCATION:Ministry Center
SUMMARY:Volunteer Day
END:VEVENT
END:VCALENDAR
