BEGIN:VCALENDAR
VERSION:2.0
PRODID:-//myjoyfulheart.org//NONSGML kigkonsult.se iCalcreator 2.30.10//
CALSCALE:GREGORIAN
METHOD:PUBLISH
UID:833a54be-bec7-438b-81b1-10beb3416830
X-WR-CALDESC:
X-WR-RELCALID:bc1f6ac54af785731c31e3533c2f598d
X-WR-TIMEZONE:America/Chicago
BEGIN:VTIMEZONE
TZID:America/Chicago
BEGIN:STANDARD
TZNAME:CST
DTSTART:20211107T020000
TZOFFSETFROM:-0500
TZOFFSETTO:-0600
RDATE:20221106T020000
END:STANDARD
BEGIN:DAYLIGHT
TZNAME:CDT
DTSTART:20210314T020000
TZOFFSETFROM:-0600
TZOFFSETTO:-0500
RDATE:20220313T020000
RDATE:20230312T020000
END:DAYLIGHT
END:VTIMEZONE
BEGIN:VEVENT
UID:b52a0c81-aab9-4748-8905-825678c0b47d
DTSTAMP:20260421T023418Z
DESCRIPTION:
DTSTART;TZID=America/Chicago:20220124T093000
DTEND;TZID=America/Chicago:20220124T133000
LOCATION:Ministry Center
SUMMARY:Volunteer Day
END:VEVENT
END:VCALENDAR
