BEGIN:VCALENDAR
VERSION:2.0
PRODID:-//myjoyfulheart.org//NONSGML kigkonsult.se iCalcreator 2.30.10//
CALSCALE:GREGORIAN
METHOD:PUBLISH
UID:cbdb4fab-abe7-4955-b5ba-a4f76c2c2f16
X-WR-CALDESC:
X-WR-RELCALID:a03bcd4adc844b3b175ff3aad3d01a9f
X-WR-TIMEZONE:America/Chicago
BEGIN:VTIMEZONE
TZID:America/Chicago
BEGIN:STANDARD
TZNAME:CST
DTSTART:20211107T020000
TZOFFSETFROM:-0500
TZOFFSETTO:-0600
RDATE:20221106T020000
END:STANDARD
BEGIN:DAYLIGHT
TZNAME:CDT
DTSTART:20210314T020000
TZOFFSETFROM:-0600
TZOFFSETTO:-0500
RDATE:20220313T020000
RDATE:20230312T020000
END:DAYLIGHT
END:VTIMEZONE
BEGIN:VEVENT
UID:4a324176-7332-487f-b337-0d51879fa8a6
DTSTAMP:20260424T052118Z
DESCRIPTION:
DTSTART;TZID=America/Chicago:20211104T093000
DTEND;TZID=America/Chicago:20211104T133000
LOCATION:Ministry Center
SUMMARY:Volunteer Day
END:VEVENT
END:VCALENDAR
